BEGIN:VCALENDAR
VERSION:2.0
PRODID:-//Tukios.com/
BEGIN:VEVENT
UID:e1e7cfc8-d508-47f2-affc-9279c813c2ac@www.briceherndonfuneralhome.com
DTSTAMP:20260420T232016Z
DTSTART:20260423T150000Z
DTEND:20260423T160000Z
SUMMARY:Graveside Service
DESCRIPTION:
URL:https://www.briceherndonfuneralhome.com/obituaries/mary-frances-solomon
LOCATION:Live Oak Cemetery South Jefferies Boulevard  Walterboro SC 29488
GEO:32.8940777;-80.6772362
END:VEVENT
END:VCALENDAR