BEGIN:VCALENDAR
VERSION:2.0
PRODID:-//Tukios.com/
BEGIN:VEVENT
UID:cd03b5ff-153d-4bad-b633-013499ae290d@www.briceherndonfuneralhome.com
DTSTAMP:20260422T004217Z
DTSTART:20260425T150000Z
DTEND:20260425T160000Z
SUMMARY:Funeral Service
DESCRIPTION:
URL:https://www.briceherndonfuneralhome.com/obituaries/debbie-warren
LOCATION:First Baptist Church of Ravenel 5987 South Carolina 165  Ravenel 
	SC 29470
GEO:32.7748598;-80.2470744
END:VEVENT
END:VCALENDAR