BEGIN:VCALENDAR
VERSION:2.0
PRODID:-//Tukios.com/
BEGIN:VEVENT
UID:73ec4797-5212-4988-9e06-fb6433c8230d@www.briceherndonfuneralhome.com
DTSTAMP:20260422T004217Z
DTSTART:20260424T220000Z
DTEND:20260425T000000Z
SUMMARY:Visitation
DESCRIPTION:
URL:https://www.briceherndonfuneralhome.com/obituaries/debbie-warren
LOCATION:First Baptist Church of Ravenel 5987 South Carolina 165  Ravenel 
	SC 29470
GEO:32.7748598;-80.2470744
END:VEVENT
END:VCALENDAR