BEGIN:VCALENDAR
VERSION:2.0
PRODID:-//Tukios.com/
BEGIN:VEVENT
UID:1d5aa2bb-939e-48e8-85db-1f16a01e1136@www.briceherndonfuneralhome.com
DTSTAMP:20260422T003124Z
DTSTART:20260424T133000Z
DTEND:20260424T143000Z
SUMMARY:Visitation
DESCRIPTION:
URL:https://www.briceherndonfuneralhome.com/obituaries/amy-nettles
LOCATION: 1193 Bells Highway  Walterboro SC 29488
GEO:32.9238073;-80.6832321
END:VEVENT
END:VCALENDAR