BEGIN:VCALENDAR
VERSION:2.0
PRODID:-//Tukios.com/
BEGIN:VEVENT
UID:f8a9460c-e0c9-4415-848a-dd42f06d137d@www.briceherndonfuneralhome.com
DTSTAMP:20260422T002950Z
DTSTART:20260424T150000Z
DTEND:20260424T160000Z
SUMMARY:Graveside Service
DESCRIPTION:
URL:https://www.briceherndonfuneralhome.com/obituaries/amy-nettles
LOCATION:Bedon Baptist Church Cemetery 2410 Cottageville Highway  
	Walterboro SC 29488
GEO:32.9199719;-80.6141754
END:VEVENT
END:VCALENDAR